BEGIN:VCALENDAR
VERSION:2.0
PRODID:-//NEROSBAR - ECPv6.15.20//NONSGML v1.0//EN
CALSCALE:GREGORIAN
METHOD:PUBLISH
X-ORIGINAL-URL:https://nerosbar.com
X-WR-CALDESC:Events for NEROSBAR
REFRESH-INTERVAL;VALUE=DURATION:PT1H
X-Robots-Tag:noindex
X-PUBLISHED-TTL:PT1H
BEGIN:VTIMEZONE
TZID:America/Halifax
BEGIN:DAYLIGHT
TZOFFSETFROM:-0400
TZOFFSETTO:-0300
TZNAME:ADT
DTSTART:20240310T060000
END:DAYLIGHT
BEGIN:STANDARD
TZOFFSETFROM:-0300
TZOFFSETTO:-0400
TZNAME:AST
DTSTART:20241103T050000
END:STANDARD
BEGIN:DAYLIGHT
TZOFFSETFROM:-0400
TZOFFSETTO:-0300
TZNAME:ADT
DTSTART:20250309T060000
END:DAYLIGHT
BEGIN:STANDARD
TZOFFSETFROM:-0300
TZOFFSETTO:-0400
TZNAME:AST
DTSTART:20251102T050000
END:STANDARD
BEGIN:DAYLIGHT
TZOFFSETFROM:-0400
TZOFFSETTO:-0300
TZNAME:ADT
DTSTART:20260308T060000
END:DAYLIGHT
BEGIN:STANDARD
TZOFFSETFROM:-0300
TZOFFSETTO:-0400
TZNAME:AST
DTSTART:20261101T050000
END:STANDARD
END:VTIMEZONE
BEGIN:VTIMEZONE
TZID:UTC
BEGIN:STANDARD
TZOFFSETFROM:+0000
TZOFFSETTO:+0000
TZNAME:UTC
DTSTART:20230101T000000
END:STANDARD
END:VTIMEZONE
BEGIN:VEVENT
DTSTART;TZID=America/Halifax:20251205T190000
DTEND;TZID=America/Halifax:20251205T220000
DTSTAMP:20260420T142503
CREATED:20251203T023733Z
LAST-MODIFIED:20251203T024028Z
UID:22148-1764961200-1764972000@nerosbar.com
SUMMARY:HOA Wine Tasting
DESCRIPTION:Friday\, December 5th | 7 PM – 10 PMPrivate Event — RSVP Required for Homeowners Only \nThis Friday night\, the doors of Nero’s Bar open for a special\, invitation-only wine tasting — a cozy\, intimate evening crafted exclusively for homeowners who have already RSVP’d. \nWe’ll be pouring a curated selection of reds\, whites\, and sparkling wines while soft music sets the mood. Expect warm conversation\, relaxed atmosphere\, and a little bit of that signature Nero’s Bar charm — the kind you can feel in the lighting\, the design\, and the stories the space was built on. \nGuests will enjoy: \n\nA handpicked lineup of red\, white\, and sparkling wines\nLight bites to complement the tasting\nGood vibes\, good neighbors\, and an easy-going winter night\n\nWhile Nero is no longer with us\, the spirit of the bar that bears his name lives on — a tribute to good company\, good drinks\, and creating moments worth remembering. \nLocation: Provided privately to RSVP’d guestsTime: 7 PM – 10 PMThis is a private event for homeowners who have already RSVP’d. \nAt Nero’s Bar\, every pour is about connection — and every night is meant to feel just a little bit special.
URL:https://nerosbar.com/event/hoa-wine-tasting/
ATTACH;FMTTYPE=image/jpeg:https://nerosbar.com/wp-content/uploads/2025/12/wine-bottles.jpg
END:VEVENT
BEGIN:VEVENT
DTSTART;TZID=America/Halifax:20250606T170000
DTEND;TZID=America/Halifax:20250606T200000
DTSTAMP:20260420T142503
CREATED:20250121T235718Z
LAST-MODIFIED:20250121T235718Z
UID:22027-1749229200-1749240000@nerosbar.com
SUMMARY:National Donut Day
DESCRIPTION:Celebrate National Donut Day with us at NEROSBAR on Friday\, June 6th\, 2025\, starting at 5 PM. This is our 2nd Annual Donut Day Celebration\, and after last year’s sweet success\, we’re bringing it back bigger and better! \nHere’s the scoop:\nBring a box of your favorite donuts from any donut shop around Metro Atlanta. Whether it’s a local hidden gem or a well-known favorite\, let’s create the ultimate donut buffet! \nEnjoy a night of delicious donuts\, good vibes\, and great company. There will be music and a few surprises that’ll make this National Donut Day unforgettable. \nLast year’s event was a sugar-fueled blast\, and we can’t wait to make more memories with all you donut lovers. Bring your appetite and of course\, those donuts! \nAdmission: Free with a box of donuts! \nLet’s keep the tradition alive. See you there!
URL:https://nerosbar.com/event/national-donut-day-2/
ATTACH;FMTTYPE=image/jpeg:https://nerosbar.com/wp-content/uploads/2025/01/donut4.jpg
END:VEVENT
BEGIN:VEVENT
DTSTART;VALUE=DATE:20250524
DTEND;VALUE=DATE:20250525
DTSTAMP:20260420T142503
CREATED:20250122T002620Z
LAST-MODIFIED:20250122T003804Z
UID:22033-1748044800-1748131199@nerosbar.com
SUMMARY:Graduation
DESCRIPTION:“Reach for the stars\, so if you fall\, you land on a cloud…” – Kanye West\, Graduation \nIt’s time to celebrate Zahir’s incredible achievement—high school graduation! Just like Kanye’s iconic Graduation album\, this moment is all about leveling up\, embracing the journey\, and stepping into a bright new chapter. \nFrom the “Good Morning” start to the “Stronger” finish\, this event is a reflection of hard work\, growth\, and endless potential. Join us as we honor Zahir’s success and look ahead to the “Good Life” that’s waiting for him. \nHere’s to being a “Champion” in every sense of the word! Don’t miss this unforgettable celebration as we raise a toast to Zahir.
URL:https://nerosbar.com/event/graduation/
ATTACH;FMTTYPE=image/jpeg:https://nerosbar.com/wp-content/uploads/2025/01/grad2.jpg
END:VEVENT
BEGIN:VEVENT
DTSTART;TZID=America/Halifax:20250222T180000
DTEND;TZID=America/Halifax:20250222T233000
DTSTAMP:20260420T142503
CREATED:20250122T012342Z
LAST-MODIFIED:20250204T150311Z
UID:22038-1740247200-1740267000@nerosbar.com
SUMMARY:Gustavo’s Birthday
DESCRIPTION:Join us at NEROSBAR on Saturday\, February 22nd\, as we raise a glass to our founder\, Gustavo\, on his special day! \nImmerse yourself in the vibrant rhythms of Cabo Verde with Funaná and Coladeira music that will keep you moving all night long. \nHere’s what’s in store:\nWhisky will be poured—a nod to the refined taste of the man of the hour.\nCigars will be lit—because every great celebration deserves a little luxury.\nCape Verdean vibes—a soulful soundtrack to an unforgettable night. \nWhere: NEROSBAR\nWhen: Saturday\, February 22nd\, 2025 | 6 PM \nCome for the music\, stay for the memories\, and toast to the man behind it all. It’s going to be a night filled with culture\, camaraderie\, and celebration. \nLet’s make it one for the books. See you there!
URL:https://nerosbar.com/event/gustavos-birthday/
ATTACH;FMTTYPE=image/jpeg:https://nerosbar.com/wp-content/uploads/2025/01/bday-2.jpg
END:VEVENT
BEGIN:VEVENT
DTSTART;TZID=America/Halifax:20250204T170000
DTEND;TZID=America/Halifax:20250204T200000
DTSTAMP:20260420T142503
CREATED:20250131T182608Z
LAST-MODIFIED:20250131T182608Z
UID:22044-1738688400-1738699200@nerosbar.com
SUMMARY:Celebration for Mike!
DESCRIPTION:Shhh… it’s a surprise!  This Tuesday\, the 4th\, we’re celebrating our good friend Mike’s birthday at NEROSBAR\, and you’re invited! Let’s make it a night to remember—good vibes\, great company\, and of course\, a well-deserved toast to the birthday man. \nBring a gift. Bring the energy. Just don’t bring any hints—Mike has no idea! \nIf you’re in\, be sure to arrive by 5 PM so we can all be ready when he walks in. We’ll wrap things up by 8 PM—because\, let’s be real\, we all have work the next day. \nLet’s do this right. See you Tuesday at NEROSBAR!
URL:https://nerosbar.com/event/celebration-for-mike/
ATTACH;FMTTYPE=image/jpeg:https://nerosbar.com/wp-content/uploads/2025/01/rooster.jpg
END:VEVENT
BEGIN:VEVENT
DTSTART;VALUE=DATE:20240801
DTEND;VALUE=DATE:20240802
DTSTAMP:20260420T142503
CREATED:20240808T001256Z
LAST-MODIFIED:20240809T041007Z
UID:21585-1722470400-1722556799@nerosbar.com
SUMMARY:Celebrate Nero's Birthday Bash!
DESCRIPTION:Join us at Nero’s Bar for a special celebration honoring our beloved Rottweiler\, Nero! We’re throwing a birthday bash filled with good vibes and great company. \nRaise a glass as we toast to the canine who inspired it all. Enjoy music\, snacks\, and some of Nero’s favorite surprises throughout the night. \nDon’t miss this chance to celebrate with us and make memories in the cozy atmosphere that Nero loved so much. Come howl at the moon and enjoy an unforgettable evening with friends! \nDetails: \n\nDate: TBD\nTime: TBD\nLocation: Nero’s Bar\nDress Code: Casual\n\nRSVP through our contact form to secure your spot. We can’t wait to celebrate with you!
URL:https://nerosbar.com/event/celebrate-neros-birthday-bash/
ATTACH;FMTTYPE=image/jpeg:https://nerosbar.com/wp-content/uploads/2024/08/bdnb2.jpg
END:VEVENT
BEGIN:VEVENT
DTSTART;TZID=UTC:20240705T170000
DTEND;TZID=UTC:20240706T010000
DTSTAMP:20260420T142503
CREATED:20240529T181257Z
LAST-MODIFIED:20240531T024449Z
UID:18399-1720198800-1720227600@nerosbar.com
SUMMARY:Cape Verdean Independence Day
DESCRIPTION:Join us on July 5th\, 2024\, at Nero’s Bar as we honor Cape Verdean Independence Day in style. Indulge in the vibrant culture of Cape Verde with an evening dedicated to music\, dance\, and the flavors of the islands. \nSip on Ponche\, a traditional drink made with Cape Verdean grogue\, while immersing yourself in the rhythms of funana and coladera—the heartbeat of Cape Verdean music. Our celebration promises to be a lively tribute to the spirit and independence of Cape Verde\, set against the backdrop of Nero’s Bar’s warm and welcoming atmosphere. \nCome together with friends and fellow enthusiasts to experience a taste of Cape Verde right here at Nero’s Bar. Let’s raise a toast to freedom\, culture\, and the rich traditions that make Cape Verdean Independence Day a joyous occasion.
URL:https://nerosbar.com/event/cv-independence-day/
LOCATION:NEROSBAR
ATTACH;FMTTYPE=image/jpeg:https://nerosbar.com/wp-content/uploads/2021/08/bar-60.jpg
END:VEVENT
BEGIN:VEVENT
DTSTART;TZID=UTC:20240607T170000
DTEND;TZID=UTC:20240607T200000
DTSTAMP:20260420T142503
CREATED:20240605T131033Z
LAST-MODIFIED:20240605T175616Z
UID:18394-1717779600-1717790400@nerosbar.com
SUMMARY:National Donut Day at Nero's Bar
DESCRIPTION:Get ready to indulge in the sweetest celebration of the year! Join us this Friday\, June 7th\, for National Donut Day at Nero’s Bar. It’s a fun and exclusive donut tasting event where we’re on a mission to find the best donuts in the metro Atlanta area. \nAdmission: A box of donuts (excluding Dough in the Box\, Dunkin\, and Krispy Kreme—because let’s face it\, those are too easy\, and they’ll already be here). \nThink your favorite local donut shop has what it takes to dethrone the reigning champ\, Dough in the Box? Bring a box and let the delicious competition begin! \nUse the contact form on our website to RSVP and let us know which donut shop you’ll be representing. This event is for true donut aficionados\, so come prepared to sample\, savor\, and vote for the ultimate donut champion. \nDon’t miss out on this delectable event—space is limited\, and only the best donut enthusiasts will make the cut. See you at Nero’s Bar for a night of sweet treats and great company!
URL:https://nerosbar.com/event/national-donut-day/
LOCATION:NEROSBAR
ATTACH;FMTTYPE=image/jpeg:https://nerosbar.com/wp-content/uploads/2021/08/mateusz-feliksik-3MRjt70KhEk-unsplash.jpg
END:VEVENT
BEGIN:VEVENT
DTSTART;TZID=UTC:20240504T180000
DTEND;TZID=UTC:20240515T233000
DTSTAMP:20260420T142503
CREATED:20240501T164846Z
LAST-MODIFIED:20240530T215630Z
UID:18354-1714845600-1715815800@nerosbar.com
SUMMARY:Dinosaurs & Donuts
DESCRIPTION:Step back in time and join us for an exclusive evening at Nero’s Bar with our Dinosaurs & Donuts event! On this special night\, indulge in a delightful pairing of premium whiskey and gourmet donuts\, surrounded by great company and a prehistoric twist. \nThis invite-only gathering promises good times and unforgettable moments. Sip on expertly selected whiskeys while savoring the unique flavors of our hand-crafted donuts. Whether you’re a whiskey connoisseur\, a donut aficionado\, or simply looking for a memorable night out\, Dinosaurs & Donuts is the perfect blend of indulgence and fun. \nDon’t miss this unique celebration at Nero’s Bar. Raise a glass\, enjoy some delicious treats\, and create lasting memories with fellow enthusiasts in an atmosphere that’s as timeless as the dinosaurs.
URL:https://nerosbar.com/event/dinosaurs-n-donuts/
LOCATION:NEROSBAR
ATTACH;FMTTYPE=image/jpeg:https://nerosbar.com/wp-content/uploads/2024/05/dino2.jpg
END:VEVENT
END:VCALENDAR